BEGIN:VCALENDAR
VERSION:2.0
METHOD:PUBLISH
PRODID:-//hacksw/handcal//NONSGML v1.0//EN
BEGIN:VEVENT
DTSTAMP:20260423T111825Z
DTSTART:20121117T000000Z
DTEND:20121117T222900Z
UID:20121117T000000Z-20121117T222900Z-129@akronago.org
SUMMARY:Christian Lane
DESCRIPTION:Christian Lane is the Assistant University Organist and Ch
 oirmaster\, Harvard University.
X-ALT-DESC;FMTTYPE=text/html:<div class=page-restrict-output><p><a hre
 f=http://www.christianlane.com target=_blank>Christian Lane</a> is the
  Assistant University Organist and Choirmaster\, Harvard University.</
 p>\n</div>
URL:https://akronago.org/events/129/christian-lane/?lang=en
ATTACH:https://akronago.org/events/129/christian-lane/?lang=en
LOCATION:Holy Trinity Lutheran (Akron)\, 50 North Prospect St\, Akron
END:VEVENT
END:VCALENDAR
