BEGIN:VCALENDAR
VERSION:2.0
METHOD:PUBLISH
PRODID:-//hacksw/handcal//NONSGML v1.0//EN
BEGIN:VEVENT
DTSTAMP:20260423T111656Z
DTSTART:20121014T200000Z
DTEND:20121014T222700Z
UID:20121014T200000Z-20121014T222700Z-128@akronago.org
SUMMARY:Dr. John Ferguson: Hymn Festival
DESCRIPTION:Dr. Ferguson is the retired Professor of Organ & Church Mu
 sic at St. Olaf College in Northfield\, Minnesota.
X-ALT-DESC;FMTTYPE=text/html:<div class=page-restrict-output><p>Dr. Fe
 rguson is the retired Professor of Organ & Church Music at St. Olaf Co
 llege in Northfield\, Minnesota.</p>\n</div>
URL:https://akronago.org/events/128/dr-john-ferguson-hymn-festival/?la
 ng=en
ATTACH:https://akronago.org/events/128/dr-john-ferguson-hymn-festival/
 ?lang=en
LOCATION:Holy Trinity Lutheran (Akron)\, 50 North Prospect St\, Akron
END:VEVENT
END:VCALENDAR
