BEGIN:VCALENDAR
VERSION:2.0
METHOD:PUBLISH
PRODID:-//hacksw/handcal//NONSGML v1.0//EN
BEGIN:VEVENT
DTSTAMP:20260423T111903Z
DTSTART:20130512T210000Z
DTEND:20130512T222500Z
UID:20130512T210000Z-20130512T222500Z-127@akronago.org
SUMMARY:Mother’s Day Opera/Broadway Gala
DESCRIPTION:Part of the Five @ Five series. Admission is free. Profess
 ional childcare always available.
X-ALT-DESC;FMTTYPE=text/html:<div class=page-restrict-output><p>Part o
 f the <strong>Five @ Five</strong> series. Admission is free. Professi
 onal childcare always available.</p>\n</div>
URL:https://akronago.org/events/127/mother-e2-80-99s-day-operabroadway
 -gala/?lang=en
ATTACH:https://akronago.org/events/127/mother-e2-80-99s-day-operabroad
 way-gala/?lang=en
LOCATION:Westminster Presbyterian (Akron)\, 1250 W Exchange St\, Akron
END:VEVENT
END:VCALENDAR
