BEGIN:VCALENDAR
VERSION:2.0
METHOD:PUBLISH
PRODID:-//hacksw/handcal//NONSGML v1.0//EN
BEGIN:VEVENT
DTSTAMP:20260423T111915Z
DTSTART:20130414T210000Z
DTEND:20130414T222400Z
UID:20130414T210000Z-20130414T222400Z-126@akronago.org
SUMMARY:University of Akron Steel Drum Band
DESCRIPTION:Part of the Five @ Five series. Admission is free. Profess
 ional childcare always available.
X-ALT-DESC;FMTTYPE=text/html:<div class=page-restrict-output><p>Part o
 f the <strong>Five @ Five</strong> series. Admission is free. Professi
 onal childcare always available.</p>\n</div>
URL:https://akronago.org/events/126/university-of-akron-steel-drum-ban
 d/?lang=en
ATTACH:https://akronago.org/events/126/university-of-akron-steel-drum-
 band/?lang=en
LOCATION:Westminster Presbyterian (Akron)\, 1250 W Exchange St\, Akron
END:VEVENT
END:VCALENDAR
