BEGIN:VCALENDAR
VERSION:2.0
METHOD:PUBLISH
PRODID:-//hacksw/handcal//NONSGML v1.0//EN
BEGIN:VEVENT
DTSTAMP:20260423T112010Z
DTSTART:20130303T210000Z
DTEND:20130303T222300Z
UID:20130303T210000Z-20130303T222300Z-125@akronago.org
SUMMARY:University of Mount Union Concert Choir
DESCRIPTION:Part of the Five @ Five series. Admission is free. Profess
 ional childcare always available.
X-ALT-DESC;FMTTYPE=text/html:<div class=page-restrict-output><p>Part o
 f the <strong>Five @ Five</strong> series. Admission is free. Professi
 onal childcare always available.</p>\n</div>
URL:https://akronago.org/events/125/university-of-mount-union-concert-
 choir/?lang=en
ATTACH:https://akronago.org/events/125/university-of-mount-union-conce
 rt-choir/?lang=en
LOCATION:Westminster Presbyterian (Akron)\, 1250 W Exchange St\, Akron
END:VEVENT
END:VCALENDAR
