BEGIN:VCALENDAR
VERSION:2.0
METHOD:PUBLISH
PRODID:-//hacksw/handcal//NONSGML v1.0//EN
BEGIN:VEVENT
DTSTAMP:20260423T111913Z
DTSTART:20121104T210000Z
DTEND:20121104T221800Z
UID:20121104T210000Z-20121104T221800Z-124@akronago.org
SUMMARY:Festival Choral Concert with Orchestra
DESCRIPTION:Part of the Five @ Five series. Admission is free. Profess
 ional childcare always available.\n\nFeaturing Handel: Zadok the Pries
 t\, and J.S. Bach: Magnificat
X-ALT-DESC;FMTTYPE=text/html:<div class=page-restrict-output><p>Part o
 f the <strong>Five @ Five</strong> series. Admission is free. Professi
 onal childcare always available.</p>\n<p>Featuring Handel: Zadok the P
 riest\, and J.S. Bach: Magnificat</p>\n</div>
URL:https://akronago.org/events/124/festival-choral-concert-with-orche
 stra/?lang=en
ATTACH:https://akronago.org/events/124/festival-choral-concert-with-or
 chestra/?lang=en
LOCATION:Westminster Presbyterian (Akron)\, 1250 W Exchange St\, Akron
END:VEVENT
END:VCALENDAR
