BEGIN:VCALENDAR
VERSION:2.0
METHOD:PUBLISH
PRODID:-//hacksw/handcal//NONSGML v1.0//EN
BEGIN:VEVENT
DTSTAMP:20260423T111828Z
DTSTART:20120923T210000Z
DTEND:20120923T221500Z
UID:20120923T210000Z-20120923T221500Z-123@akronago.org
SUMMARY:Akron Baroque
DESCRIPTION:Part of the Five @ Five series. Admission is free. Profess
 ional childcare always available.\n\nAkron Baroque Orchestra
X-ALT-DESC;FMTTYPE=text/html:<div class=page-restrict-output><p>Part o
 f the <strong>Five @ Five</strong> series. Admission is free. Professi
 onal childcare always available.</p>\n<p><a href=http://www.akronbaroq
 ue.org/ target=_blank>Akron Baroque Orchestra</a></p>\n</div>
URL:https://akronago.org/events/123/akron-baroque/?lang=en
ATTACH:https://akronago.org/events/123/akron-baroque/?lang=en
LOCATION:Westminster Presbyterian (Akron)\, 1250 W Exchange St\, Akron
END:VEVENT
END:VCALENDAR
