BEGIN:VCALENDAR
VERSION:2.0
METHOD:PUBLISH
PRODID:-//hacksw/handcal//NONSGML v1.0//EN
BEGIN:VEVENT
DTSTAMP:20260423T111727Z
DTSTART:20120420T233000Z
DTEND:20120420T040000Z
UID:20120420T233000Z-20120420T040000Z-122@akronago.org
SUMMARY:Jim Hopkins
DESCRIPTION:Jim Hopkins\, a student of Todd Wilson at the Cleveland In
 stitute of Music and assistant organist and choirmaster at St. Paul's\
 , will play a recital in partial fulfillment of the Master of Music de
 gree on Friday\, April 20 at 7:30 p.m. Free admission.\n\nMusic of Vie
 rne (Symphony No. 3)\, Schumann\, and J.S. Bach.
X-ALT-DESC;FMTTYPE=text/html:<div class=page-restrict-output><p>Jim Ho
 pkins\, a student of Todd Wilson at the Cleveland Institute of Music a
 nd assistant organist and choirmaster at St. Paul's\, will play a reci
 tal in partial fulfillment of the Master of Music degree on Friday\, A
 pril 20 at 7:30 p.m. Free admission.</p>\n<p>Music of Vierne (Symphony
  No. 3)\, Schumann\, and J.S. Bach.</p>\n</div>
URL:https://akronago.org/events/122/jim-hopkins/?lang=en
ATTACH:https://akronago.org/events/122/jim-hopkins/?lang=en
LOCATION:St Paul's Episcopal (Akron)\, 1361 W Market St\, Akron
END:VEVENT
END:VCALENDAR
