BEGIN:VCALENDAR
VERSION:2.0
METHOD:PUBLISH
PRODID:-//hacksw/handcal//NONSGML v1.0//EN
BEGIN:VEVENT
DTSTAMP:20260423T111727Z
DTSTART:20120520T200000Z
DTEND:20120521T013000Z
UID:20120520T200000Z-20120521T013000Z-121@akronago.org
SUMMARY:Choir Benefit Concert
DESCRIPTION:Sung by the Choir of Men & Boys and the St. Cecilia Choir 
 of Girls\n\nConcert to Benefit the St. Paul's Choir Travel Fund\nFree 
 admission\, but donations at $50 (or more)\, $25\, $10\, and $5 will b
 e gratefully received.
X-ALT-DESC;FMTTYPE=text/html:<div class=page-restrict-output><p>Sung b
 y the Choir of Men & Boys and the St. Cecilia Choir of Girls</p>\n<p>C
 oncert to Benefit the St. Paul's Choir Travel Fund<br>\nFree admission
 \, but donations at $50 (or more)\, $25\, $10\, and $5 will be gratefu
 lly received.</p>\n</div>
URL:https://akronago.org/events/121/choir-benefit-concert/?lang=en
ATTACH:https://akronago.org/events/121/choir-benefit-concert/?lang=en
LOCATION:St Paul's Episcopal (Akron)\, 1361 W Market St\, Akron
END:VEVENT
END:VCALENDAR
