BEGIN:VCALENDAR
VERSION:2.0
METHOD:PUBLISH
PRODID:-//hacksw/handcal//NONSGML v1.0//EN
BEGIN:VEVENT
DTSTAMP:20260423T111826Z
DTSTART:20120429T200000Z
DTEND:20120430T012200Z
UID:20120429T200000Z-20120430T012200Z-120@akronago.org
SUMMARY:Evensong
DESCRIPTION:Sung by the St. Catherine's Choir of Women\nMusic of Peter
  Aston\, Richard Proulx\, and John Abdenour
X-ALT-DESC;FMTTYPE=text/html:<div class=page-restrict-output><p>Sung b
 y the St. Catherine's Choir of Women<br>\nMusic of Peter Aston\, Richa
 rd Proulx\, and John Abdenour</p>\n</div>
URL:https://akronago.org/events/120/evensong/?lang=en
ATTACH:https://akronago.org/events/120/evensong/?lang=en
LOCATION:St Paul's Episcopal (Akron)\, 1361 W Market St\, Akron
END:VEVENT
END:VCALENDAR
