BEGIN:VCALENDAR
VERSION:2.0
METHOD:PUBLISH
PRODID:-//hacksw/handcal//NONSGML v1.0//EN
BEGIN:VEVENT
DTSTAMP:20260423T111726Z
DTSTART:20101031T210000Z
DTEND:20101031T040000Z
UID:20101031T210000Z-20101031T040000Z-12@akronago.org
SUMMARY:Mozart Requiem
DESCRIPTION:Part of the Five at Five concert series\, the Mozart Requi
 em will be presented by festival chorus and orchestra.\n\nContact: Jam
 es Mismas\, Director of Music\nwww.westminsterakron.com
X-ALT-DESC;FMTTYPE=text/html:<div class=page-restrict-output><p>Part o
 f the <em>Five at Five</em> concert series\, the Mozart Requiem will b
 e presented by festival chorus and orchestra.</p>\n<p>Contact: James M
 ismas\, Director of Music<br>\n<a href=http://www.westminsterakron.com
 >www.westminsterakron.com</a></p>\n</div>
URL:https://akronago.org/events/12/mozart-requiem/?lang=en
ATTACH:https://akronago.org/events/12/mozart-requiem/?lang=en
LOCATION:Westminster Presbyterian (Akron)\, 1250 W Exchange St\, Akron
END:VEVENT
END:VCALENDAR
