BEGIN:VCALENDAR
VERSION:2.0
METHOD:PUBLISH
PRODID:-//hacksw/handcal//NONSGML v1.0//EN
BEGIN:VEVENT
DTSTAMP:20260423T112006Z
DTSTART:20120415T190000Z
DTEND:20120416T011200Z
UID:20120415T190000Z-20120416T011200Z-119@akronago.org
SUMMARY:Barbara MacGregor: Organ Dedication Recital
DESCRIPTION:Organist Barbara MacGregor will play the Dedicatory Recita
 l on the new three-manual Viscount Organ. The program will include wor
 ks by Arne\, Bach\, Handel\, Hollins\, Shearing\, Watson\, Widor and o
 thers.\n\nThe concert is free. A free-will offering will be received f
 or the organ fund. A reception will follow the program. For further in
 formation\, contact JoAnne Zurell at 330-723-2364 or jzurell@zoominter
 net.net.
X-ALT-DESC;FMTTYPE=text/html:<div class=page-restrict-output><p>Organi
 st Barbara MacGregor will play the Dedicatory Recital on the new three
 -manual Viscount Organ. The program will include works by Arne\, Bach\
 , Handel\, Hollins\, Shearing\, Watson\, Widor and others.</p>\n<p>The
  concert is free. A free-will offering will be received for the organ 
 fund. A reception will follow the program. For further information\, c
 ontact JoAnne Zurell at 330-723-2364 or &#x6a\;&#x7a\;&#x75\;&#x72\;&#
 x65\;&#x6c\;&#x6c\;&#x40\;&#x7a\;&#x6f\;&#x6f\;&#109\;&#105\;&#110\;&#
 116\;&#101\;&#114\;&#110\;et&#46\;net.</p>\n</div>
URL:https://akronago.org/events/119/barbara-macgregor-organ-dedication
 -recital/?lang=en
ATTACH:https://akronago.org/events/119/barbara-macgregor-organ-dedicat
 ion-recital/?lang=en
LOCATION:Christ the King Lutheran (Lodi)\, 8080 Lafayette Rd\, Lodi
END:VEVENT
END:VCALENDAR
