BEGIN:VCALENDAR
VERSION:2.0
METHOD:PUBLISH
PRODID:-//hacksw/handcal//NONSGML v1.0//EN
BEGIN:VEVENT
DTSTAMP:20260423T111933Z
DTSTART:20120325T200000Z
DTEND:20120325T040000Z
UID:20120325T200000Z-20120325T040000Z-118@akronago.org
SUMMARY:Lenten Carol Service
DESCRIPTION:A Meditation on the Passion of Christ\, with Carols\nThe C
 hoir of Men and Boys and The St. Cecilia Choir of Girls\n\nPatterned a
 fter a service begun at St. John's College\, Cambridge\, this deeply m
 oving service emphasizes each of the stages of Christ's Passion—Gethse
 mane\, the trial\, and the crucifixion—with readings\, carols\, hymns\
 , and plainsong gospel narratives.\n\nMusic of George Guest\, Tchaikov
 sky\, and Johannes Brahms.\n\nA reception follows the service.
X-ALT-DESC;FMTTYPE=text/html:<div class=page-restrict-output><p><stron
 g>A Meditation on the Passion of Christ\, with Carols</strong><br>\n<e
 m>The Choir of Men and Boys and The St. Cecilia Choir of Girls</em></p
 >\n<p>Patterned after a service begun at St. John's College\, Cambridg
 e\, this deeply moving service emphasizes each of the stages of Christ
 's Passion—Gethsemane\, the trial\, and the crucifixion—with readings\
 , carols\, hymns\, and plainsong gospel narratives.</p>\n<p>Music of G
 eorge Guest\, Tchaikovsky\, and Johannes Brahms.</p>\n<p>A reception f
 ollows the service.</p>\n</div>
URL:https://akronago.org/events/118/lenten-carol-service/?lang=en
ATTACH:https://akronago.org/events/118/lenten-carol-service/?lang=en
LOCATION:St Paul's Episcopal (Akron)\, 1361 W Market St\, Akron
END:VEVENT
END:VCALENDAR
