BEGIN:VCALENDAR
VERSION:2.0
METHOD:PUBLISH
PRODID:-//hacksw/handcal//NONSGML v1.0//EN
BEGIN:VEVENT
DTSTAMP:20260423T111905Z
DTSTART:20120318T203000Z
DTEND:20120318T040000Z
UID:20120318T203000Z-20120318T040000Z-117@akronago.org
SUMMARY:J. Curtis Brown
DESCRIPTION:Mid-Lent meditation organ recital\nOrganist J. Curtis Brow
 n will present his second annual organ recital for Mid-Lent meditation
  at 4:30 p.m.\, Sunday\, March 18\, 2011 (Mid-Lent) at historic New Li
 fe Episcopal Church in Uniontown. The program includes quieter organ w
 orks by J. S. Bach\, Felix Mendelssohn\, Johannes Brahms\, Camille Sai
 nt-Saens\, Sigfrid Karg-Elert\, Edward Elgar\, Healey Willan\, Helmut 
 Walcha\, Jean Langlais\, Gordon Young and Dale Wood. A reception will 
 follow the recital.\n\nIn addition to duties as organist/choirmaster a
 t New Life\, Brown\, one of the senior organists in the region\, is a 
 teacher of piano and organ and studied at Oberlin and Baldwin-Wallace 
 conservatories as well as with the faculty from the University of Akro
 n in his high school years. Convenient directions may be found on the 
 church's web page at: ComeToNewLife.org. Brown is a member of both Akr
 on and Canton chapters of the American Guild of Organists. He makes hi
 s home in the Highland Square neighborhood of Akron.
X-ALT-DESC;FMTTYPE=text/html:<div class=page-restrict-output><p><stron
 g>Mid-Lent meditation organ recital</strong><br>\nOrganist J. Curtis B
 rown will present his second annual organ recital for Mid-Lent meditat
 ion at 4:30 p.m.\, Sunday\, March 18\, 2011 (Mid-Lent) at historic New
  Life Episcopal Church in Uniontown. The program includes quieter orga
 n works by J. S. Bach\, Felix Mendelssohn\, Johannes Brahms\, Camille 
 Saint-Saens\, Sigfrid Karg-Elert\, Edward Elgar\, Healey Willan\, Helm
 ut Walcha\, Jean Langlais\, Gordon Young and Dale Wood. A reception wi
 ll follow the recital.</p>\n<p>In addition to duties as organist/choir
 master at New Life\, Brown\, one of the senior organists in the region
 \, is a teacher of piano and organ and studied at Oberlin and Baldwin-
 Wallace conservatories as well as with the faculty from the University
  of Akron in his high school years. Convenient directions may be found
  on the church's web page at: <a href=http://ComeToNewLife.org>ComeToN
 ewLife.org</a>. Brown is a member of both Akron and Canton chapters of
  the American Guild of Organists. He makes his home in the Highland Sq
 uare neighborhood of Akron.</p>\n</div>
URL:https://akronago.org/events/117/j-curtis-brown/?lang=en
ATTACH:https://akronago.org/events/117/j-curtis-brown/?lang=en
LOCATION:New Life Episcopal (Uniontown)\, 13118 Church Ave NW\, Uniont
 own
END:VEVENT
END:VCALENDAR
