BEGIN:VCALENDAR
VERSION:2.0
METHOD:PUBLISH
PRODID:-//hacksw/handcal//NONSGML v1.0//EN
BEGIN:VEVENT
DTSTAMP:20260423T111738Z
DTSTART:20120219T190000Z
DTEND:20120219T201100Z
UID:20120219T190000Z-20120219T201100Z-116@akronago.org
SUMMARY:The Royal Sounds of Organ & Brass
DESCRIPTION:The Royal Sounds of Organ & Brass\nThe University of Akron
  Brass Choir\nTucker Jolly\, Conductor\nValerie Thorson\, Organ
X-ALT-DESC;FMTTYPE=text/html:<div class=page-restrict-output><p>The Ro
 yal Sounds of Organ & Brass<br>\nThe University of Akron Brass Choir<b
 r>\nTucker Jolly\, Conductor<br>\nValerie Thorson\, Organ</p>\n</div>
URL:https://akronago.org/events/116/the-royal-sounds-of-organ-brass/?l
 ang=en
ATTACH:https://akronago.org/events/116/the-royal-sounds-of-organ-brass
 /?lang=en
LOCATION:First Congregational (Akron)\, 292 E Market St\, Akron
END:VEVENT
END:VCALENDAR
