BEGIN:VCALENDAR
VERSION:2.0
METHOD:PUBLISH
PRODID:-//hacksw/handcal//NONSGML v1.0//EN
BEGIN:VEVENT
DTSTAMP:20260423T111914Z
DTSTART:20120221T160000Z
DTEND:20120221T223200Z
UID:20120221T160000Z-20120221T223200Z-115@akronago.org
SUMMARY:Oberlin Trio (Brown Bag Concert)
DESCRIPTION:Julia Chen\, jazz keyboardist\nMatt Adomeit\, bass\nNathan
  Friedman\, drums\n\nBring your own lunch or brown bag lunches are ava
 ilable for $5.00. Just call the church office 24 hours prior to the co
 ncert at 330-725-4131.
X-ALT-DESC;FMTTYPE=text/html:<div class=page-restrict-output><p>Julia 
 Chen\, jazz keyboardist<br>\nMatt Adomeit\, bass<br>\nNathan Friedman\
 , drums</p>\n<p>Bring your own lunch or brown bag lunches are availabl
 e for $5.00. Just call the church office 24 hours prior to the concert
  at 330-725-4131.</p>\n</div>
URL:https://akronago.org/events/115/oberlin-trio-brown-bag-concert/?la
 ng=en
ATTACH:https://akronago.org/events/115/oberlin-trio-brown-bag-concert/
 ?lang=en
LOCATION:St Paul's Episcopal (Medina)\, 317 East Liberty Street\, Medi
 na
END:VEVENT
END:VCALENDAR
