BEGIN:VCALENDAR
VERSION:2.0
METHOD:PUBLISH
PRODID:-//hacksw/handcal//NONSGML v1.0//EN
BEGIN:VEVENT
DTSTAMP:20260423T111904Z
DTSTART:20120226T200000Z
DTEND:20120226T210000Z
UID:20120226T200000Z-20120226T210000Z-114@akronago.org
SUMMARY:Evensong
DESCRIPTION:Evensong on the First Sunday of Lent\nThe Choir of Men & B
 oys\, and the St. Cecilia Choir of Girls\n\nMichael Rickelton Preces &
  Responses\nC. Hylton Stewart Psalm 23\nHerbert Howells Gloucester Ser
 vice\nDavid Hurd Love bade me welcome
X-ALT-DESC;FMTTYPE=text/html:<div class=page-restrict-output><p><stron
 g>Evensong on the First Sunday of Lent</strong><br>\nThe Choir of Men 
 & Boys\, and the St. Cecilia Choir of Girls</p>\n<p><em>Michael Rickel
 ton</em> Preces & Responses<br>\n<em>C. Hylton Stewart</em> Psalm 23<b
 r>\n<em>Herbert Howells</em> Gloucester Service<br>\n<em>David Hurd</e
 m> Love bade me welcome</p>\n</div>
URL:https://akronago.org/events/114/evensong/?lang=en
ATTACH:https://akronago.org/events/114/evensong/?lang=en
LOCATION:St Paul's Episcopal (Akron)\, 1361 W Market St\, Akron
END:VEVENT
END:VCALENDAR
