BEGIN:VCALENDAR
VERSION:2.0
METHOD:PUBLISH
PRODID:-//hacksw/handcal//NONSGML v1.0//EN
BEGIN:VEVENT
DTSTAMP:20260423T111736Z
DTSTART:20111106T190000Z
DTEND:20111106T040000Z
UID:20111106T190000Z-20111106T040000Z-113@akronago.org
SUMMARY:James Clouser
DESCRIPTION:Celebrating the 10th Anniversary of the St. Martin's-Miles
  Park pipe organ at St. Martin's Episcopal Church\n\nFree and open to 
 the public\n\nGuest Organist\, James Clouser\, CAGO\, ChM\, will prese
 nt a recital on the 19343 Holtkamp pipe organ which was renovated\, ex
 panded and installed in 2001 by the Holtkamp Organ Company. Following 
 a fire at the church in 2007\, the organ was restored and reinstalled.
  Built originally for Miles Park Presbyterian Church\, this pipe organ
  was important in the history and development of the Holtkamp Organ Co
 mpany. James Clouser won First Prize in the 22003 AGO/Quimby Region V 
 Competition for Young Organists and performed at the 2004 National Con
 vention.\n\nThe first half of the program is especially family-friendl
 y\, opening with the Bach Toccata and Fugue in D Minor and including B
 urton's Rex: The King of Instruments and Akerley's A Sweet for Mother 
 Goose.\n\nThe second half of the program includes works by Cleveland c
 omposers and ends with the Duruflé Prelude and Fugue on ALAIN.\n\nDire
 ctor of Music Ministries\, Sandy Tittle\, celebrates 15 years of servi
 ce at St. Martin's in Chagrin Falls.
X-ALT-DESC;FMTTYPE=text/html:<div class=page-restrict-output><p><stron
 g>Celebrating the 10th Anniversary of the St. Martin's-Miles Park pipe
  organ at St. Martin's Episcopal Church</strong></p>\n<p>Free and open
  to the public</p>\n<p>Guest Organist\, James Clouser\, CAGO\, ChM\, w
 ill present a recital on the 19343 Holtkamp pipe organ which was renov
 ated\, expanded and installed in 2001 by the Holtkamp Organ Company. F
 ollowing a fire at the church in 2007\, the organ was restored and rei
 nstalled. Built originally for Miles Park Presbyterian Church\, this p
 ipe organ was important in the history and development of the Holtkamp
  Organ Company. James Clouser won First Prize in the 22003 AGO/Quimby 
 Region V Competition for Young Organists and performed at the 2004 Nat
 ional Convention.</p>\n<p>The first half of the program is especially 
 family-friendly\, opening with the Bach Toccata and Fugue in D Minor a
 nd including Burton's Rex: The King of Instruments and Akerley's A Swe
 et for Mother Goose.</p>\n<p>The second half of the program includes w
 orks by Cleveland composers and ends with the Duruflé Prelude and Fugu
 e on ALAIN.</p>\n<p>Director of Music Ministries\, Sandy Tittle\, cele
 brates 15 years of service at St. Martin's in Chagrin Falls.</p>\n</di
 v>
URL:https://akronago.org/events/113/james-clouser/?lang=en
ATTACH:https://akronago.org/events/113/james-clouser/?lang=en
LOCATION:St Martin's Episcopal (Chagrin Falls)\, 6295 Chagrin River Rd
 \, Chagrin Falls
END:VEVENT
END:VCALENDAR
