BEGIN:VCALENDAR
VERSION:2.0
METHOD:PUBLISH
PRODID:-//hacksw/handcal//NONSGML v1.0//EN
BEGIN:VEVENT
DTSTAMP:20260423T111655Z
DTSTART:20111030T200000Z
DTEND:20111030T040000Z
UID:20111030T200000Z-20111030T040000Z-112@akronago.org
SUMMARY:Todd Wilson: Music in the Manor
DESCRIPTION:Halloween Spooktacular! Organ Concert with Todd Wilson\n\n
 Come in costume for a family-friendly Halloween event in the Music Roo
 m featuring Stan Hywet's fabulous Aeolian Organ and that famous silent
  films\, Phantom of the Opera and The Hunchback of Notre Dame with Lon
  Chaney. Our very own Todd Wilson\, House Organist\, has a fabulous af
 ternoon planned that's a little spooky\, but mostly way too much fun. 
 Before getting to the music\, we'll create a ghostly craft to enjoy du
 ring the concert!\n\nThe cost is $18 for Members\, $22 for Non-Members
 \, and $4 for youth 6-17 members\, $5 for youth 6-17 non-members. Seat
 ing is limited\; purchase tickets online or call the Ticket Office at 
 330-315-3287.
X-ALT-DESC;FMTTYPE=text/html:<div class=page-restrict-output><p>Hallow
 een Spooktacular! Organ Concert with Todd Wilson</p>\n<p>Come in costu
 me for a family-friendly Halloween event in the Music Room featuring S
 tan Hywet's fabulous Aeolian Organ and that famous silent films\, Phan
 tom of the Opera and The Hunchback of Notre Dame with Lon Chaney. Our 
 very own Todd Wilson\, House Organist\, has a fabulous afternoon plann
 ed that's a little spooky\, but mostly way too much fun. Before gettin
 g to the music\, we'll create a ghostly craft to enjoy during the conc
 ert!</p>\n<p>The cost is $18 for Members\, $22 for Non-Members\, and $
 4 for youth 6-17 members\, $5 for youth 6-17 non-members. Seating is l
 imited\; purchase tickets online or call the Ticket Office at 330-315-
 3287. </p>\n</div>
URL:https://akronago.org/events/112/todd-wilson-music-in-the-manor/?la
 ng=en
ATTACH:https://akronago.org/events/112/todd-wilson-music-in-the-manor/
 ?lang=en
LOCATION:Stan Hywet Hall (Akron)\, 714 Portage Path\, Akron
END:VEVENT
END:VCALENDAR
