BEGIN:VCALENDAR
VERSION:2.0
METHOD:PUBLISH
PRODID:-//hacksw/handcal//NONSGML v1.0//EN
BEGIN:VEVENT
DTSTAMP:20260423T111638Z
DTSTART:20111029T180000Z
DTEND:20111029T040000Z
UID:20111029T180000Z-20111029T040000Z-111@akronago.org
SUMMARY:Todd Wilson
DESCRIPTION:Re-Dedication Organ Series\nE.M. Skinner\, Opus 582\n\nTod
 d Wilson will accompany the silent film\, Hunchback of Notre Dame\n\nT
 ickets available through Stambaugh Auditorium Box Office: 330-259-0555
 \nAdults & Seniors $10 / Children (under 14) in costume - FREE\n\nA Fa
 mily Concert directed toward children\, there will be prizes for best 
 Halloween costumes.
X-ALT-DESC;FMTTYPE=text/html:<div class=page-restrict-output><p>Re-Ded
 ication Organ Series<br>\nE.M. Skinner\, Opus 582</p>\n<p><strong>Todd
  Wilson will accompany the silent film\, Hunchback of Notre Dame</stro
 ng></p>\n<p>Tickets available through Stambaugh Auditorium Box Office:
  330-259-0555<br>\nAdults & Seniors $10 / Children (under 14) in costu
 me - FREE</p>\n<p>A Family Concert directed toward children\, there wi
 ll be prizes for best Halloween costumes.</p>\n</div>
URL:https://akronago.org/events/111/todd-wilson/?lang=en
ATTACH:https://akronago.org/events/111/todd-wilson/?lang=en
LOCATION:Stambaugh Auditorium (Youngstown)\, 1000 Fifth Ave\, Youngsto
 wn
END:VEVENT
END:VCALENDAR
