BEGIN:VCALENDAR
VERSION:2.0
METHOD:PUBLISH
PRODID:-//hacksw/handcal//NONSGML v1.0//EN
BEGIN:VEVENT
DTSTAMP:20260423T111738Z
DTSTART:20111009T200000Z
DTEND:20111009T040000Z
UID:20111009T200000Z-20111009T040000Z-110@akronago.org
SUMMARY:Thomas Murray
DESCRIPTION:Re-Dedication Organ Series\nE.M. Skinner\, Opus 582\n\nMus
 ic of Hollins\, Saint-Saëns\, Elgar\, Bach\, Widor\, Dupré\, Rimsky-Ko
 rsakov\, and Mendelssohn-Bartholdy\n\nTickets available through the St
 ambaugh Auditorium Box Office: 330-259-0555\nAdults $20 / Seniors $10 
 / Students $7. Open seating.
X-ALT-DESC;FMTTYPE=text/html:<div class=page-restrict-output><p>Re-Ded
 ication Organ Series<br>\nE.M. Skinner\, Opus 582</p>\n<p>Music of Hol
 lins\, Saint-Saëns\, Elgar\, Bach\, Widor\, Dupré\, Rimsky-Korsakov\, 
 and Mendelssohn-Bartholdy</p>\n<p>Tickets available through the Stamba
 ugh Auditorium Box Office: 330-259-0555<br>\nAdults $20 / Seniors $10 
 / Students $7. Open seating.</p>\n</div>
URL:https://akronago.org/events/110/thomas-murray/?lang=en
ATTACH:https://akronago.org/events/110/thomas-murray/?lang=en
LOCATION:Stambaugh Auditorium (Youngstown)\, 1000 Fifth Ave\, Youngsto
 wn
END:VEVENT
END:VCALENDAR
