BEGIN:VCALENDAR
VERSION:2.0
METHOD:PUBLISH
PRODID:-//hacksw/handcal//NONSGML v1.0//EN
BEGIN:VEVENT
DTSTAMP:20260423T111726Z
DTSTART:20101002T140000Z
DTEND:20101002T160000Z
UID:20101002T140000Z-20101002T160000Z-11@akronago.org
SUMMARY:Gail Archer
DESCRIPTION:Dr. Archer will present a program on Mendelssohn and other
  19th-century German masters. She will offer tips on playing Mendelsso
 hn's Prelude and Fugue in G major. Bring your score.
X-ALT-DESC;FMTTYPE=text/html:<div class=page-restrict-output><p>Dr. Ar
 cher will present a program on Mendelssohn and other 19th-century Germ
 an masters. She will offer tips on playing Mendelssohn's <em>Prelude a
 nd Fugue in G major</em>. Bring your score.</p>\n</div>
URL:https://akronago.org/events/11/gail-archer/?lang=en
ATTACH:https://akronago.org/events/11/gail-archer/?lang=en
LOCATION:Holy Trinity Lutheran (Akron)\, 50 North Prospect St\, Akron
END:VEVENT
END:VCALENDAR
