BEGIN:VCALENDAR
VERSION:2.0
METHOD:PUBLISH
PRODID:-//hacksw/handcal//NONSGML v1.0//EN
BEGIN:VEVENT
DTSTAMP:20260423T111808Z
DTSTART:20110918T200000Z
DTEND:20110918T040000Z
UID:20110918T200000Z-20110918T040000Z-109@akronago.org
SUMMARY:David Higgs: Re-Dedication of E.M. Skinner\, Opus 582
DESCRIPTION:Youngstown Symphony Orchestra with \nDavid Higgs\, Organis
 t\n\nConcerto for Organ\, Strings & Timpani — Poulenc\nSymphony No. 3 
 Organ Symphony — Saint-Saëns\nSolo Organ Selections\n\nTickets availab
 le through Youngstown Symphony Box Office: 330-744-0264\nFloor $42 / S
 ide Balcony $50 / Rear Balcony $37 (+ $3.50 Service Charge)\n\nAfter-C
 oncert Dinner Tickets at $60 per person\, available through the Stamba
 ugh Auditorium Office: 330-747-5175. Reservations due by Friday\, Sept
 ember 9\, 2011
X-ALT-DESC;FMTTYPE=text/html:<div class=page-restrict-output><p><stron
 g>Youngstown Symphony Orchestra with<br>\nDavid Higgs\, Organist</stro
 ng></p>\n<p>Concerto for Organ\, Strings & Timpani — Poulenc<br>\nSymp
 hony No. 3 Organ Symphony — Saint-Saëns<br>\nSolo Organ Selections</p>
 \n<p>Tickets available through Youngstown Symphony Box Office: 330-744
 -0264<br>\nFloor $42 / Side Balcony $50 / Rear Balcony $37 (+ $3.50 Se
 rvice Charge)</p>\n<p>After-Concert Dinner Tickets at $60 per person\,
  available through the Stambaugh Auditorium Office: 330-747-5175. <em>
 Reservations due by Friday\, September 9\, 2011</em></p>\n</div>
URL:https://akronago.org/events/109/david-higgs-re-dedication-of-e-m-s
 kinner-opus-582/?lang=en
ATTACH:https://akronago.org/events/109/david-higgs-re-dedication-of-e-
 m-skinner-opus-582/?lang=en
LOCATION:Stambaugh Auditorium (Youngstown)\, 1000 Fifth Ave\, Youngsto
 wn
END:VEVENT
END:VCALENDAR
