BEGIN:VCALENDAR
VERSION:2.0
METHOD:PUBLISH
PRODID:-//hacksw/handcal//NONSGML v1.0//EN
BEGIN:VEVENT
DTSTAMP:20260423T111736Z
DTSTART:20110917T140000Z
DTEND:20110917T160000Z
UID:20110917T140000Z-20110917T160000Z-108@akronago.org
SUMMARY:David Higgs: Masterclass
DESCRIPTION:The Masterclass will feature the following performers and 
 works:\nJoseph Petros — Passacaglia in D Minor (Reger)\nMary Ann Bush 
 Bilas — Sicilienne\, Op. 5 (Duruflé)\nJustin Murphy-Mancini — Te Deum 
 (Demessieux)\nAndrea Drier — Majeste du Christ Demandant sa gloire a s
 on Pere (Messiaen)\n\nE.M. Skinner Organ\, Opus 582
X-ALT-DESC;FMTTYPE=text/html:<div class=page-restrict-output><p><em>Th
 e Masterclass will feature the following performers and works:</em><br
 >\nJoseph Petros — Passacaglia in D Minor (Reger)<br>\nMary Ann Bush B
 ilas — Sicilienne\, Op. 5 (Duruflé)<br>\nJustin Murphy-Mancini — Te De
 um (Demessieux)<br>\nAndrea Drier — Majeste du Christ Demandant sa glo
 ire a son Pere (Messiaen)</p>\n<p>E.M. Skinner Organ\, Opus 582</p>\n<
 /div>
URL:https://akronago.org/events/108/david-higgs-masterclass/?lang=en
ATTACH:https://akronago.org/events/108/david-higgs-masterclass/?lang=e
 n
LOCATION:Stambaugh Auditorium (Youngstown)\, 1000 Fifth Ave\, Youngsto
 wn
END:VEVENT
END:VCALENDAR
