BEGIN:VCALENDAR
VERSION:2.0
METHOD:PUBLISH
PRODID:-//hacksw/handcal//NONSGML v1.0//EN
BEGIN:VEVENT
DTSTAMP:20260423T111915Z
DTSTART:20120525T140000Z
DTEND:20120525T210000Z
UID:20120525T140000Z-20120525T210000Z-107@akronago.org
SUMMARY:Semi-Final Round of NYACOP
DESCRIPTION:Friday\, May 25 (10:00 a.m. to 5:00 p.m.): The semi-final 
 round of the National Young Artists Competition in Organ Performance i
 n Gartner Auditorium (Cleveland Museum of Art)\n\nThe museum will host
  the semi-final round of the American Guild of Organists' National You
 ng Artists Competition in Organ Performance throughout the day on Frid
 ay\, May 25. Seven young organists will compete\, with three advancing
  to the finals in Nashville\, Tenn. Works by Bach\, B?hm\, Franck\, an
 d Heiller will be performed in this free event. A reception for the se
 ven competitors\, judges\, and audience follows at 5:15 p.m.\n\nHosted
  by the Cleveland Chapter AGO and The Cleveland Museum of Art
X-ALT-DESC;FMTTYPE=text/html:<div class=page-restrict-output><p>Friday
 \, May 25 (10:00 a.m. to 5:00 p.m.): <strong>The semi-final round of t
 he National Young Artists Competition in Organ Performance</strong> in
  Gartner Auditorium (Cleveland Museum of Art)</p>\n<p>The museum will 
 host the semi-final round of the American Guild of Organists' National
  Young Artists Competition in Organ Performance throughout the day on 
 Friday\, May 25. Seven young organists will compete\, with three advan
 cing to the finals in Nashville\, Tenn. Works by Bach\, B?hm\, Franck\
 , and Heiller will be performed in this free event. A reception for th
 e seven competitors\, judges\, and audience follows at 5:15 p.m.</p>\n
 <p>Hosted by the <a href=http://www.agocleveland.org/ target=_blank>Cl
 eveland Chapter AGO</a> and <a href=http://www.clevelandart.org>The Cl
 eveland Museum of Art</a></p>\n</div>
URL:https://akronago.org/events/107/semi-final-round-of-nyacop/?lang=e
 n
ATTACH:https://akronago.org/events/107/semi-final-round-of-nyacop/?lan
 g=en
LOCATION:Cleveland Museum of Art\, 11150 East Boulevard\, Cleveland
END:VEVENT
END:VCALENDAR
