BEGIN:VCALENDAR
VERSION:2.0
METHOD:PUBLISH
PRODID:-//hacksw/handcal//NONSGML v1.0//EN
BEGIN:VEVENT
DTSTAMP:20260423T111808Z
DTSTART:20120425T233000Z
DTEND:20120425T040000Z
UID:20120425T233000Z-20120425T040000Z-106@akronago.org
SUMMARY:Apollo’s Fire: “Bach’s Brandenburg Concertos”
DESCRIPTION:Apollo’s Fire\nTickets Required.
X-ALT-DESC;FMTTYPE=text/html:<div class=page-restrict-output><p><a hre
 f=http://www.apollosfire.org/ target=_blank>Apollo’s Fire</a><br>\nTic
 kets Required. </p>\n</div>
URL:https://akronago.org/events/106/apollo-e2-80-99s-fire-e2-80-9cbach
 -e2-80-99s-brandenburg-concertos-e2-80-9d/?lang=en
ATTACH:https://akronago.org/events/106/apollo-e2-80-99s-fire-e2-80-9cb
 ach-e2-80-99s-brandenburg-concertos-e2-80-9d/?lang=en
LOCATION:Fairlawn Lutheran\, 3415 W Market St\, Fairlawn\, OH
END:VEVENT
END:VCALENDAR
