BEGIN:VCALENDAR
VERSION:2.0
METHOD:PUBLISH
PRODID:-//hacksw/handcal//NONSGML v1.0//EN
BEGIN:VEVENT
DTSTAMP:20260423T111637Z
DTSTART:20111013T233000Z
DTEND:20111013T040000Z
UID:20111013T233000Z-20111013T040000Z-103@akronago.org
SUMMARY:Apollo’s Fire: “Love & Rage”—Handel & Vivaldi
DESCRIPTION:Apollo’s Fire\nTickets Required.
X-ALT-DESC;FMTTYPE=text/html:<div class=page-restrict-output><p><a hre
 f=http://www.apollosfire.org/ target=_blank>Apollo’s Fire</a><br>\nTic
 kets Required. </p>\n</div>
URL:https://akronago.org/events/103/apollo-e2-80-99s-fire-e2-80-9clove
 -rage-e2-80-9d-e2-80-94handel-vivaldi/?lang=en
ATTACH:https://akronago.org/events/103/apollo-e2-80-99s-fire-e2-80-9cl
 ove-rage-e2-80-9d-e2-80-94handel-vivaldi/?lang=en
LOCATION:Fairlawn Lutheran\, 3415 W Market St\, Fairlawn\, OH
END:VEVENT
END:VCALENDAR
