BEGIN:VCALENDAR
VERSION:2.0
METHOD:PUBLISH
PRODID:-//hacksw/handcal//NONSGML v1.0//EN
BEGIN:VEVENT
DTSTAMP:20260423T112010Z
DTSTART:20111211T210000Z
DTEND:20111211T040000Z
UID:20111211T210000Z-20111211T040000Z-102@akronago.org
SUMMARY:Handel’s MESSIAH (Part 1)
DESCRIPTION:Festival Choir & Soloists\nSemi-staged with Chamber Orches
 tra\nSamuel Gordon\, conductor
X-ALT-DESC;FMTTYPE=text/html:<div class=page-restrict-output><p><stron
 g>Festival Choir & Soloists</strong><br>\nSemi-staged with Chamber Orc
 hestra<br>\nSamuel Gordon\, conductor</p>\n</div>
URL:https://akronago.org/events/102/handel-e2-80-99s-messiah-part-1/?l
 ang=en
ATTACH:https://akronago.org/events/102/handel-e2-80-99s-messiah-part-1
 /?lang=en
LOCATION:First Congregational (Akron)\, 292 E Market St\, Akron
END:VEVENT
END:VCALENDAR
