BEGIN:VCALENDAR
VERSION:2.0
METHOD:PUBLISH
PRODID:-//hacksw/handcal//NONSGML v1.0//EN
BEGIN:VEVENT
DTSTAMP:20260423T111737Z
DTSTART:20111207T160000Z
DTEND:20111207T040000Z
UID:20111207T160000Z-20111207T040000Z-101@akronago.org
SUMMARY:Bach’s Lunch
DESCRIPTION:Free concert of seasonal music\nLunch available by reserva
 tion for $6.50\; phone 330-253-5109
X-ALT-DESC;FMTTYPE=text/html:<div class=page-restrict-output><p>Free c
 oncert of seasonal music<br>\nLunch available by reservation for $6.50
 \; phone 330-253-5109</p>\n</div>
URL:https://akronago.org/events/101/bach-e2-80-99s-lunch/?lang=en
ATTACH:https://akronago.org/events/101/bach-e2-80-99s-lunch/?lang=en
LOCATION:First Congregational (Akron)\, 292 E Market St\, Akron
END:VEVENT
END:VCALENDAR
