BEGIN:VCALENDAR
VERSION:2.0
METHOD:PUBLISH
PRODID:-//hacksw/handcal//NONSGML v1.0//EN
BEGIN:VEVENT
DTSTAMP:20260423T111638Z
DTSTART:20111201T233000Z
DTEND:20111201T040000Z
UID:20111201T233000Z-20111201T040000Z-100@akronago.org
SUMMARY:The University of Akron Symphony Orchestra
DESCRIPTION:Music of Hovhaness\, Glazunov\, Dvorak\, & Mendelssohn\nCh
 ristina Rosser\, cello\nGuy Victor Bordo\, conductor
X-ALT-DESC;FMTTYPE=text/html:<div class=page-restrict-output><p>Music 
 of Hovhaness\, Glazunov\, Dvorak\, & Mendelssohn<br>\nChristina Rosser
 \, cello<br>\nGuy Victor Bordo\, conductor</p>\n</div>
URL:https://akronago.org/events/100/the-university-of-akron-symphony-o
 rchestra/?lang=en
ATTACH:https://akronago.org/events/100/the-university-of-akron-symphon
 y-orchestra/?lang=en
LOCATION:First Congregational (Akron)\, 292 E Market St\, Akron
END:VEVENT
END:VCALENDAR
