BEGIN:VCALENDAR
VERSION:2.0
METHOD:PUBLISH
PRODID:-//hacksw/handcal//NONSGML v1.0//EN
BEGIN:VEVENT
DTSTAMP:20260423T111653Z
DTSTART:20101002T000000Z
DTEND:20101001T040000Z
UID:20101002T000000Z-20101001T040000Z-10@akronago.org
SUMMARY:Gail Archer
DESCRIPTION:Gail Archer is Director of the Music Program at Barnard Co
 llege\, a member of the faculty at Manhattan School of Music\, and is 
 college organist at Vassar College. Dr. Archer is an internationally-k
 nown concert organist\, lecturer\, and recording artist who performs t
 hroughout North America and Europe.\n\nMusic of Brahms\, Schumann\, Re
 ger\, Felix Mendelssohn\, and Fanny Mendelssohn Hensel
X-ALT-DESC;FMTTYPE=text/html:<div class=page-restrict-output><p>Gail A
 rcher is Director of the Music Program at Barnard College\, a member o
 f the faculty at Manhattan School of Music\, and is college organist a
 t Vassar College. Dr. Archer is an internationally-known concert organ
 ist\, lecturer\, and recording artist who performs throughout North Am
 erica and Europe.</p>\n<blockquote><p>Music of Brahms\, Schumann\, Reg
 er\, Felix Mendelssohn\, and Fanny Mendelssohn Hensel</p></blockquote>
 \n</div>
URL:https://akronago.org/events/10/gail-archer/?lang=en
ATTACH:https://akronago.org/events/10/gail-archer/?lang=en
LOCATION:Holy Trinity Lutheran (Akron)\, 50 North Prospect St\, Akron
END:VEVENT
END:VCALENDAR
